BEGIN:VCALENDAR
VERSION:2.0
PRODID:-//wp-events-plugin.com//7.2.2.1//EN
TZID:Asia/Tokyo
X-WR-TIMEZONE:Asia/Tokyo
BEGIN:VEVENT
UID:265@ice-tokyo.or.jp
DTSTART;TZID=Asia/Tokyo:20260127T100000
DTEND;TZID=Asia/Tokyo:20260129T180000
DTSTAMP:20251223T022757Z
URL:https://ice-tokyo.or.jp/events/%e3%82%a4%e3%82%bf%e3%83%aa%e3%82%a2%e3
 %83%b3%e3%82%b7%e3%83%a5%e3%83%bc%e3%82%ba%e3%83%ac%e3%82%b6%e3%83%bc%e3%8
 2%a2%e3%82%af%e3%82%bb%e3%82%b5%e3%83%aa%e3%83%bc%e5%90%88%e5%90%8c%e5%b1%
 95%e3%80%80/
SUMMARY:イタリアンシューズ&レザーアクセサリー合同展　
 “ITALIAN EXPRESSION” promoted by Paolo e Luca
DESCRIPTION:2026年1月27日から29日、当会展示ルームに於いて
 、イタリアシューズメーカー3ブランドの展示商談会を
 開催いたします。\n\nイタリア・トスカーナ州の植物タ
 ンニンなめし革タンナーITALPELのパオロ・クワーリ、そ
 して靴メーカーでの長い経験を誇るルーカ・マルティ
 ーニの二人が、5ブランドを選びました。\n\n選定基準は
 「ITALIAN EXPRESSION – イタリア的表現」、様々なアプロー
 チでイタリア文化やスピリットを表現しているという
 ことです。革のプロであるパオロと靴のプロのルーカ
 が選んだ３ブランドは、クリエイティビティから、素
 材とパーツなどディテールへのこだわり、色使いとデ
 ザインの組み合わせまですべてにおいてイタリアらし
 さを感じるものばかりです。各ブランドプロフィール
 はこちらからご覧いただけます。\n\nぜひ実際にお手に
 とってご覧いただければと存じます。なお当日は通訳
 が皆さまをアテンドいたします。\n\nご来場いただける
 場合は、こちらのリンクからお申込みください。\n\nhttp
 s://forms.gle/nfX9qjAEuzg9AGJz8\n\n&nbsp\;\n\n“ITALIAN EXPRESSION”\n\
 n日時：\n\n2026年1月27日（火）～ 1月29日（木）\n\n10時か
 ら18時（最終アポイント17時まで）\n\n場所：\n\nイタリ
 ア大使館貿易促進部　展示ルーム\n\n出展ブランド：\n\n
 TADDEUCCI（ジュリア・タッデウッチ）\n\nTRE CIME　(トレ・
 チーメ)\n\nTULSI　(トゥルシ)
ATTACH;FMTTYPE=image/jpeg:https://ice-tokyo.or.jp/wpdata/wp-content/upload
 s/2025/12/italian-expression-gen.2026-scaled.jpeg
CATEGORIES:ファッション
END:VEVENT
BEGIN:VTIMEZONE
TZID:Asia/Tokyo
X-LIC-LOCATION:Asia/Tokyo
BEGIN:STANDARD
DTSTART:20250127T100000
TZOFFSETFROM:+0900
TZOFFSETTO:+0900
TZNAME:JST
END:STANDARD
END:VTIMEZONE
END:VCALENDAR