BEGIN:VCALENDAR
VERSION:2.0
PRODID:-//wp-events-plugin.com//7.2.2.1//EN
TZID:Asia/Tokyo
X-WR-TIMEZONE:Asia/Tokyo
BEGIN:VEVENT
UID:38@ice-tokyo.or.jp
DTSTART;TZID=Asia/Tokyo;VALUE=DATE:20241009
DTEND;TZID=Asia/Tokyo;VALUE=DATE:20241012
DTSTAMP:20241018T055556Z
URL:https://ice-tokyo.or.jp/events/biojapan-2024-%e3%82%a4%e3%82%bf%e3%83%
 aa%e3%82%a2%e3%83%91%e3%83%93%e3%83%aa%e3%82%aa%e3%83%b3-2/
SUMMARY:BioJapan 2024 イタリアパビリオン
DESCRIPTION:「BioJapan2024（主催：BioJapan組織委員会、㈱ JTBコ
 ミュニケーションデザイン）」に出展いたします。
ATTACH;FMTTYPE=image/jpeg:https://ice-tokyo.or.jp/wpdata/wp-content/upload
 s/2024/09/bio-japan-2024.jpg
CATEGORIES:産業機械・テクノロジー・ライフサイエンス
LOCATION:https://www.pacifico.co.jp/access
END:VEVENT
BEGIN:VTIMEZONE
TZID:Asia/Tokyo
X-LIC-LOCATION:Asia/Tokyo
BEGIN:STANDARD
DTSTART:20231010T000000
TZOFFSETFROM:+0900
TZOFFSETTO:+0900
TZNAME:JST
END:STANDARD
END:VTIMEZONE
END:VCALENDAR