BEGIN:VCALENDAR
VERSION:2.0
PRODID:-//wp-events-plugin.com//7.2.2.1//EN
TZID:Asia/Tokyo
X-WR-TIMEZONE:Asia/Tokyo
BEGIN:VEVENT
UID:40@ice-tokyo.or.jp
DTSTART;TZID=Asia/Tokyo;VALUE=DATE:20240417
DTEND;TZID=Asia/Tokyo;VALUE=DATE:20240420
DTSTAMP:20241018T060506Z
URL:https://ice-tokyo.or.jp/events/cphi-japan-2024-%e3%82%a4%e3%82%bf%e3%8
 3%aa%e3%82%a2%e3%83%91%e3%83%93%e3%83%aa%e3%82%aa%e3%83%b3%e5%87%ba%e5%b1%
 95/
SUMMARY:CPHI Japan 2024 イタリアパビリオン出展
DESCRIPTION:医薬品産業において、イタリアは革新技術と研
 究開発でかねてから欧州をリードしてまいりました。
 品質に定評のあるイタリアの医薬原料の生産量は西欧
 圏で首位を保ち、その内の85％以上が90カ国に輸出され
 ています。
ATTACH;FMTTYPE=image/jpeg:https://ice-tokyo.or.jp/wpdata/wp-content/upload
 s/2024/10/italy-pavilion-CPHI-2024-featured.jpg
CATEGORIES:産業機械・テクノロジー・ライフサイエンス
LOCATION:https://www.bigsight.jp/visitor/access/
END:VEVENT
BEGIN:VTIMEZONE
TZID:Asia/Tokyo
X-LIC-LOCATION:Asia/Tokyo
BEGIN:STANDARD
DTSTART:20230418T000000
TZOFFSETFROM:+0900
TZOFFSETTO:+0900
TZNAME:JST
END:STANDARD
END:VTIMEZONE
END:VCALENDAR