BEGIN:VCALENDAR
VERSION:2.0
PRODID:-//wp-events-plugin.com//7.2.2.1//EN
TZID:Asia/Tokyo
X-WR-TIMEZONE:Asia/Tokyo
BEGIN:VEVENT
UID:240@ice-tokyo.or.jp
DTSTART;TZID=Asia/Tokyo:20260421T000000
DTEND;TZID=Asia/Tokyo:20260426T000000
DTSTAMP:20260126T053601Z
URL:https://ice-tokyo.or.jp/events/eurocucina-%e3%82%a8%e3%82%a6%e3%83%ad%
 e3%82%af%e3%83%81%e3%83%bc%e3%83%8a/
SUMMARY:EuroCucina / エウロクチーナ
DESCRIPTION:エウロクチーナ / サローネ国際キッチン見本市
 \nEuroCucina / FTK - Technology For the Kitchen - The Biennal Exhbition de
 dicated to the kitchen universe\n\n&nbsp\;\n\nhttps://www.salonemilano.it/
 en/exhibitions/eurocucina-ftk-technology-for-the-kitchen\n\n&nbsp\;\n\n対
 象：trade\n日本国内問い合わせ先：特になし。主催者側
 ホームページより英語による問い合わせ可。\n\n*情報掲
 載日：18/11/2025 (dd/mm/yyyy)\n*情報更新日：26/01/2026 (dd/mm/yyy
 y)
CATEGORIES:イタリア見本市,家具・インテリア関連
LOCATION:https://www.fieramilano.it/
END:VEVENT
BEGIN:VTIMEZONE
TZID:Asia/Tokyo
X-LIC-LOCATION:Asia/Tokyo
BEGIN:STANDARD
DTSTART:20250421T000000
TZOFFSETFROM:+0900
TZOFFSETTO:+0900
TZNAME:JST
END:STANDARD
END:VTIMEZONE
END:VCALENDAR