BEGIN:VCALENDAR
VERSION:2.0
PRODID:-//wp-events-plugin.com//7.2.2.1//EN
TZID:Asia/Tokyo
X-WR-TIMEZONE:Asia/Tokyo
BEGIN:VEVENT
UID:196@ice-tokyo.or.jp
DTSTART;TZID=Asia/Tokyo:20250723T100000
DTEND;TZID=Asia/Tokyo:20250725T170000
DTSTAMP:20250829T014841Z
URL:https://ice-tokyo.or.jp/events/foodex-japan-in-kansai-2025-italia/
SUMMARY:FOODEX JAPAN in 関西 2025 イタリア館
DESCRIPTION:終了しました。ご来場ありがとうございました
ATTACH;FMTTYPE=image/jpeg:https://ice-tokyo.or.jp/wpdata/wp-content/upload
 s/2025/05/FOODEX_2.png
CATEGORIES:食品・ 飲料
LOCATION:https://www.intex-osaka.com/jp/
END:VEVENT
BEGIN:VTIMEZONE
TZID:Asia/Tokyo
X-LIC-LOCATION:Asia/Tokyo
BEGIN:STANDARD
DTSTART:20240723T100000
TZOFFSETFROM:+0900
TZOFFSETTO:+0900
TZNAME:JST
END:STANDARD
END:VTIMEZONE
END:VCALENDAR