BEGIN:VCALENDAR
VERSION:2.0
PRODID:-//wp-events-plugin.com//7.2.2.1//EN
TZID:Asia/Tokyo
X-WR-TIMEZONE:Asia/Tokyo
BEGIN:VEVENT
UID:138@ice-tokyo.or.jp
DTSTART;TZID=Asia/Tokyo:20250115T100000
DTEND;TZID=Asia/Tokyo:20250118T180000
DTSTAMP:20250122T090126Z
URL:https://ice-tokyo.or.jp/events/ijt%ef%bc%88%e5%9b%bd%e9%9a%9b%e5%ae%9d
 %e9%a3%be%e5%b1%95%ef%bc%892025-italia%e3%83%a9%e3%82%a6%e3%83%b3%e3%82%b8
 %e5%87%ba%e5%b1%95/
SUMMARY:IJT（国際宝飾展）2025 ITALIAラウンジ出展
DESCRIPTION:イタリア大使館貿易促進部は第36回国際宝飾展
 （International Jewellery Tokyo – IJT 2025）に際し、主催RX Japan
 との協力のもと、同展に出展するイタリア企業のプロ
 モーションを目的とし、PR活動や会場内でのサポート業
 務を実施します。
ATTACH;FMTTYPE=image/jpeg:https://ice-tokyo.or.jp/wpdata/wp-content/upload
 s/2023/12/the-extraordinary-italian-jewelry.jpg
CATEGORIES:ジュエリー・化粧品・眼鏡
LOCATION:https://www.bigsight.jp/
END:VEVENT
BEGIN:VTIMEZONE
TZID:Asia/Tokyo
X-LIC-LOCATION:Asia/Tokyo
BEGIN:STANDARD
DTSTART:20240116T100000
TZOFFSETFROM:+0900
TZOFFSETTO:+0900
TZNAME:JST
END:STANDARD
END:VTIMEZONE
END:VCALENDAR