BEGIN:VCALENDAR
VERSION:2.0
PRODID:-//wp-events-plugin.com//7.2.2.1//EN
TZID:Asia/Tokyo
X-WR-TIMEZONE:Asia/Tokyo
BEGIN:VEVENT
UID:271@ice-tokyo.or.jp
DTSTART;TZID=Asia/Tokyo:20260128T100000
DTEND;TZID=Asia/Tokyo:20260130T170000
DTSTAMP:20260121T044246Z
URL:https://ice-tokyo.or.jp/events/isiex-2026%e3%80%80/
SUMMARY:イタリア出展＠ ISIEX 2026国際宇宙産業展　 
DESCRIPTION:\n\n2026年1月28日(水)～30日(金)10:00-17:00東京ビッ
 グサイト 東ホール（ブース番号：8S-07）\n\nhttps://isiex.ic
 e-tokyo.or.jp/2026/
ATTACH;FMTTYPE=image/jpeg:https://ice-tokyo.or.jp/wpdata/wp-content/upload
 s/2026/01/isiex2026_1920pxW-1080pxH.jpg
CATEGORIES:産業機械・テクノロジー・ライフサイエンス
LOCATION:https://isiex.ice-tokyo.or.jp/2026/
END:VEVENT
BEGIN:VTIMEZONE
TZID:Asia/Tokyo
X-LIC-LOCATION:Asia/Tokyo
BEGIN:STANDARD
DTSTART:20250128T100000
TZOFFSETFROM:+0900
TZOFFSETTO:+0900
TZNAME:JST
END:STANDARD
END:VTIMEZONE
END:VCALENDAR