BEGIN:VCALENDAR
VERSION:2.0
PRODID:-//wp-events-plugin.com//7.2.2.1//EN
TZID:Asia/Tokyo
X-WR-TIMEZONE:Asia/Tokyo
BEGIN:VEVENT
UID:275@ice-tokyo.or.jp
DTSTART;TZID=Asia/Tokyo:20260427T000000
DTEND;TZID=Asia/Tokyo:20260429T000000
DTSTAMP:20260420T091438Z
URL:https://ice-tokyo.or.jp/events/sushi-tech-2026-%e6%97%a5%e6%9c%ac%e8%a
 a%9e%e7%89%88/
SUMMARY:SusHi Tech 2026　日本語版
DESCRIPTION:\n\n\nEnglish Version\n公式インタラクティブカタロ
 グを見る →\nSusHi Tech Tokyo 2026 イタリア館：人間中心の
 ディープテック\nイタリア大使館貿易促進部（ITA）は、
 アジア最大級のイノベーション・ディープテックイベ
 ント「SusHi Tech Tokyo 2026」における公式イタリア館への
 参加を発表いたします。\n\n4月27日から29日にかけて、
 東京ビッグサイトにて厳選されたイタリアのスタート
 アップ・テック企業10社による代表団を迎えます。人工
 知能、データインテリジェンス、地理空間技術、デジ
 タルヘルス、スマートインフラなど、イタリアの最先
 端テクノロジーエコシステムを代表する企業が集結し
 ます。\n\n強固な産業・科学基盤のもと、各社は世界水
 準のエンジニアリングと人間中心のアプローチを融合
 し、都市モビリティから持続可能エネルギーまで、現
 実社会の課題解決に取り組んでいます。\n参加企業10社
 のご紹介\n\n 	Athlos | ソフトウェア・デジタルソリュー
 ションの設計・開発・製造 | www.athlos.biz\n 	DIGITARCA | デ
 ジタルツイン | www.digitarca.it\n 	ELECTE | AIデータ分析・財
 務予測（SaaS / B2B） | www.electe.net\n 	Icarus | ヘルスケア | i
 carustechnology.it\n 	KOALA | エネルギーテック | linkedin.com/comp
 any/koalasrl\n 	Lunocode | 生成AIエンジン最適化（GEO） | lunoco
 de.eu\n 	MLR srl | メディア・情報・コミュニケーション | w
 ww.mlr.srl\n 	SLIMNET SRL | デジタルヘルス – 肥満管理 | slimn
 et.eu\n 	TAKE OVER RILIEVI INTEGRATI S.R.L. | スマートシティ・イ
 ンフラモニタリング | take-over.it\n 	TimelapseLab | 建設・建
 築 | www.timelapselab.com\n\n\n代表団の詳細を見る\n各社の最
 先端ソリューション、具体的なユースケース、パート
 ナーシップの機会について詳しく知りたい方はこちら
 。\n公式インタラクティブカタログを見る\n\n\n東京でお
 会いしましょう\n日本企業、投資家、イノベーションパ
 ートナーの皆様のご来場を心よりお待ちしております
 。各社の担当者が日本語スタッフ・通訳とともにブー
 スにてご対応し、詳細なご説明や高レベルのB2B商談を
 サポートいたします。\n\n 	会場：東京ビッグサイト\n 	
 ブース場所：西展示棟、パビリオン #118\n 	開催日：2026
 年4月27日〜29日\n\n\n特別イベント — ライブピッチセッ
 ション\n創業者から直接話を聞くチャンスをお見逃しな
 く！\nイタリア代表団公式ピッチセッションへぜひご参
 加ください。\n4月27日 13:30〜14:15 @ METEORステージ\n\n\n
CATEGORIES:産業機械・テクノロジー・ライフサイエンス
END:VEVENT
BEGIN:VTIMEZONE
TZID:Asia/Tokyo
X-LIC-LOCATION:Asia/Tokyo
BEGIN:STANDARD
DTSTART:20250427T000000
TZOFFSETFROM:+0900
TZOFFSETTO:+0900
TZNAME:JST
END:STANDARD
END:VTIMEZONE
END:VCALENDAR